BEGIN:VCALENDAR
VERSION:2.0
PRODID:-//Region II Human Services - ECPv6.15.18//NONSGML v1.0//EN
CALSCALE:GREGORIAN
METHOD:PUBLISH
X-ORIGINAL-URL:https://www.r2hs.com
X-WR-CALDESC:Events for Region II Human Services
REFRESH-INTERVAL;VALUE=DURATION:PT1H
X-Robots-Tag:noindex
X-PUBLISHED-TTL:PT1H
BEGIN:VTIMEZONE
TZID:America/Denver
BEGIN:DAYLIGHT
TZOFFSETFROM:-0700
TZOFFSETTO:-0600
TZNAME:MDT
DTSTART:20220313T090000
END:DAYLIGHT
BEGIN:STANDARD
TZOFFSETFROM:-0600
TZOFFSETTO:-0700
TZNAME:MST
DTSTART:20221106T080000
END:STANDARD
BEGIN:DAYLIGHT
TZOFFSETFROM:-0700
TZOFFSETTO:-0600
TZNAME:MDT
DTSTART:20230312T090000
END:DAYLIGHT
BEGIN:STANDARD
TZOFFSETFROM:-0600
TZOFFSETTO:-0700
TZNAME:MST
DTSTART:20231105T080000
END:STANDARD
BEGIN:DAYLIGHT
TZOFFSETFROM:-0700
TZOFFSETTO:-0600
TZNAME:MDT
DTSTART:20240310T090000
END:DAYLIGHT
BEGIN:STANDARD
TZOFFSETFROM:-0600
TZOFFSETTO:-0700
TZNAME:MST
DTSTART:20241103T080000
END:STANDARD
END:VTIMEZONE
BEGIN:VEVENT
DTSTART;TZID=America/Denver:20230125T120000
DTEND;TZID=America/Denver:20230125T130000
DTSTAMP:20260419T083629
CREATED:20221004T184105Z
LAST-MODIFIED:20221205T195118Z
UID:10001042-1674648000-1674651600@www.r2hs.com
SUMMARY:Weekly Seeking Safety Drop-in Group in Ogallala\, NE.
DESCRIPTION:Seeking Safety Drop in Group- Ogallala\, NE.  \nSeeking Safety is a drop-in group to help people with PTSD\, a history of trauma and /or a history of substance use/dependence attain safety. Adults 19 years of age and older can attend. \nSeeking Safety is an evidence-based\, present-focused curriculum designed to help people attain safety from PTSD and/or substance use. It is also helpful for those with a history of trauma but without a PTSD diagnosis. Safety is the overarching goal\, with emphasis on helping people achieve safety in their relationships\, thinking\, behavior and emotions. There are a total of 25 different topics that can be attended in any order\, as few or as many times as a person finds helpful.
URL:https://www.r2hs.com/event/weekly-seeking-safety-drop-in-group-in-ogallala-ne/2023-01-25/
LOCATION:Region II Human Services\, 110 North Bailey\, North Platte\, NE\, 69101\, United States
END:VEVENT
BEGIN:VEVENT
DTSTART;TZID=America/Denver:20230125T120000
DTEND;TZID=America/Denver:20230125T130000
DTSTAMP:20260419T083629
CREATED:20231130T200832Z
LAST-MODIFIED:20231130T200832Z
UID:10001436-1674648000-1674651600@www.r2hs.com
SUMMARY:Weekly Seeking Safety Drop-in Group in Ogallala\, NE.
DESCRIPTION:Seeking Safety Drop in Group- Ogallala\, NE.  \nSeeking Safety is a drop-in group to help people with PTSD\, a history of trauma and /or a history of substance use/dependence attain safety. Adults 19 years of age and older can attend. \nSeeking Safety is an evidence-based\, present-focused curriculum designed to help people attain safety from PTSD and/or substance use. It is also helpful for those with a history of trauma but without a PTSD diagnosis. Safety is the overarching goal\, with emphasis on helping people achieve safety in their relationships\, thinking\, behavior and emotions. There are a total of 25 different topics that can be attended in any order\, as few or as many times as a person finds helpful.
URL:https://www.r2hs.com/event/weekly-seeking-safety-drop-in-group-in-ogallala-ne-2/2023-01-25/
LOCATION:Region II Human Services\, 110 North Bailey\, North Platte\, NE\, 69101\, United States
END:VEVENT
END:VCALENDAR