BEGIN:VCALENDAR
VERSION:2.0
PRODID:-//Region II Human Services - ECPv6.15.18//NONSGML v1.0//EN
CALSCALE:GREGORIAN
METHOD:PUBLISH
X-WR-CALNAME:Region II Human Services
X-ORIGINAL-URL:https://www.r2hs.com
X-WR-CALDESC:Events for Region II Human Services
REFRESH-INTERVAL;VALUE=DURATION:PT1H
X-Robots-Tag:noindex
X-PUBLISHED-TTL:PT1H
BEGIN:VTIMEZONE
TZID:America/Chicago
BEGIN:DAYLIGHT
TZOFFSETFROM:-0600
TZOFFSETTO:-0500
TZNAME:CDT
DTSTART:20230312T080000
END:DAYLIGHT
BEGIN:STANDARD
TZOFFSETFROM:-0500
TZOFFSETTO:-0600
TZNAME:CST
DTSTART:20231105T070000
END:STANDARD
BEGIN:DAYLIGHT
TZOFFSETFROM:-0600
TZOFFSETTO:-0500
TZNAME:CDT
DTSTART:20240310T080000
END:DAYLIGHT
BEGIN:STANDARD
TZOFFSETFROM:-0500
TZOFFSETTO:-0600
TZNAME:CST
DTSTART:20241103T070000
END:STANDARD
BEGIN:DAYLIGHT
TZOFFSETFROM:-0600
TZOFFSETTO:-0500
TZNAME:CDT
DTSTART:20250309T080000
END:DAYLIGHT
BEGIN:STANDARD
TZOFFSETFROM:-0500
TZOFFSETTO:-0600
TZNAME:CST
DTSTART:20251102T070000
END:STANDARD
END:VTIMEZONE
BEGIN:VEVENT
DTSTART;TZID=America/Chicago:20241007T173000
DTEND;TZID=America/Chicago:20241007T193000
DTSTAMP:20260420T131955
CREATED:20240806T195358Z
LAST-MODIFIED:20260114T213929Z
UID:10001880-1728322200-1728329400@www.r2hs.com
SUMMARY:Circle of Security Parenting Classes in North Platte
DESCRIPTION:You’re not alone. Sometimes it’s hard to tell what your child needs\, what her behaviors mean and if you’re doing right by him. Imagine what it might feel like if you could make sense of what your child is really asking from you. \nCircle of Security™ Parenting is an opportunity to join other parents just like you\, for an 8-week class where you’ll learn to: \n\nStrengthen your relationship with your child\nBe present with your child during the best and toughest of times\nRecognize your child’s needs and make sense of his or her behavior\nMeet your child’s needs by being bigger\, stronger\, wiser and kind\n\n  \nWho should attend:\n            Parents\, newly expecting parents\, caregivers\, foster parents\, guardians\, adoptive parents and daycare providers. \nLocation: \nMid-Plains Community College \nNorth Campus- Room #204\, Room #203 on Oct. 28th and Nov. 25th. \n1101 Halligan Dr.\, North Platte\, NE. 69101 \nParents are asked to please leave children at home. Daycare is not provided during this class. \n Dates: \nMonday evenings\, Oct. 7-November 25\, 2024 \n Must attend all classes for a certificate of completion. \n Time:   5:30-7:30 PM CST \nNO FEE! Cost for the classes are sponsored by Region II Human Services \nHow to register:\nRegistration is required. Please call Shannon at 308.529-0595 \nPresented by:\nStephaine Morse\, LIMHP\, LADC \nThis project is funded 100% by the Region II Human Services Substance Use Prevention & Treatment Block Grant ($427\,899.00 6B08TIO85820-01M002) through the Substance Abuse and Mental Health Services Administration\, contracted through the Nebraska Department of Health and Human Services\, Division of Behavioral Health. \n Materials developed by Nebraska Children and Families Foundation NebraskaChildren.org \nCOS CLASS Oct 7-Nov 25 2024
URL:https://www.r2hs.com/event/circle-of-security-parenting-classes-in-north-platte-2/
LOCATION:Mid-Plains Community College- NORTH Campus room #204\, 1101 Halligan Drive Room 204\, North Platte\, NE\, 69101\, United States
END:VEVENT
END:VCALENDAR