BEGIN:VCALENDAR
VERSION:2.0
PRODID:-//Region II Human Services - ECPv6.15.18//NONSGML v1.0//EN
CALSCALE:GREGORIAN
METHOD:PUBLISH
X-WR-CALNAME:Region II Human Services
X-ORIGINAL-URL:https://www.r2hs.com
X-WR-CALDESC:Events for Region II Human Services
REFRESH-INTERVAL;VALUE=DURATION:PT1H
X-Robots-Tag:noindex
X-PUBLISHED-TTL:PT1H
BEGIN:VTIMEZONE
TZID:America/Chicago
BEGIN:DAYLIGHT
TZOFFSETFROM:-0600
TZOFFSETTO:-0500
TZNAME:CDT
DTSTART:20230312T080000
END:DAYLIGHT
BEGIN:STANDARD
TZOFFSETFROM:-0500
TZOFFSETTO:-0600
TZNAME:CST
DTSTART:20231105T070000
END:STANDARD
BEGIN:DAYLIGHT
TZOFFSETFROM:-0600
TZOFFSETTO:-0500
TZNAME:CDT
DTSTART:20240310T080000
END:DAYLIGHT
BEGIN:STANDARD
TZOFFSETFROM:-0500
TZOFFSETTO:-0600
TZNAME:CST
DTSTART:20241103T070000
END:STANDARD
BEGIN:DAYLIGHT
TZOFFSETFROM:-0600
TZOFFSETTO:-0500
TZNAME:CDT
DTSTART:20250309T080000
END:DAYLIGHT
BEGIN:STANDARD
TZOFFSETFROM:-0500
TZOFFSETTO:-0600
TZNAME:CST
DTSTART:20251102T070000
END:STANDARD
END:VTIMEZONE
BEGIN:VEVENT
DTSTART;TZID=America/Chicago:20241011T100000
DTEND;TZID=America/Chicago:20241011T110000
DTSTAMP:20260420T131919
CREATED:20240822T193026Z
LAST-MODIFIED:20240822T193026Z
UID:10001887-1728640800-1728644400@www.r2hs.com
SUMMARY:Weekly Seeking Safety Drop-in Group in McCook\, NE.
DESCRIPTION:Seeking Safety is a drop-in group to help people with PTSD\, a history of trauma and /or a history of substance use/dependence attain safety. Adults 19 years of age and older can attend. \nSeeking Safety is an evidence-based\, present-focused curriculum designed to help people attain safety from PTSD and/or substance use. It is also helpful for those with a history of trauma but without a PTSD diagnosis. Safety is the overarching goal\, with emphasis on helping people achieve safety in their relationships\, thinking\, behavior and emotions. There are a total of 25 different topics that can be attended in any order\, as few or as many times as a person finds helpful. \nClasses start August 30\, 2024. \nClasses will be held every Friday at 10:00 am at Heartland Counseling Clinic\, 1012 West 3rd St. \, McCook\, NE 69001 \nMake the commitment to join the group\, it is important to attend every week.
URL:https://www.r2hs.com/event/weekly-seeking-safety-drop-in-group-in-mccook-ne/2024-10-11/
LOCATION:Heartland Counseling Clinic in McCook\, NE.\, 1012 West 3rd Street\, McCook\, 69001
END:VEVENT
BEGIN:VEVENT
DTSTART;TZID=America/Chicago:20241011T100000
DTEND;TZID=America/Chicago:20241011T113000
DTSTAMP:20260420T131919
CREATED:20240910T155710Z
LAST-MODIFIED:20240910T155710Z
UID:10002141-1728640800-1728646200@www.r2hs.com
SUMMARY:Virtual QPR training on Friday\, October 11\, 2024 at 10am CST
DESCRIPTION:Community-wide Virtual QPR training.  This training is intended for adults. \nRegistration is NOT required for this training. \n(Question\, Persuade & Refer) \nBecome a QPR Gatekeeper \nQPR for Suicide Prevention \n QPR is not intended to be a form of counseling or treatment. \n QPR is intended to offer hope through positive action. \n QPR is intended to teach those who are in a position to recognize the warning        \n signs\, clues and suicidal communications of people in trouble to ACT vigorously to prevent a possible tragedy. \n  \nTopic: QPR Virtual Training on 10/11/24 \nTime: Oct 11\, 2024 10:00 AM Central Time (US and Canada) \nJoin Zoom Meeting \nhttps://us02web.zoom.us/j/82789170094?pwd=AzIgHHdqmn6hC0n25qWpajfWGnuBpt.1 \nMeeting ID: 827 8917 0094 \nPasscode: 577635 \n 
URL:https://www.r2hs.com/event/virtual-qpr-training-on-friday-october-11-2024-at-10am-cst/
LOCATION:Virtual event via Zoom\, NE\, United States
END:VEVENT
END:VCALENDAR