BEGIN:VCALENDAR
VERSION:2.0
PRODID:-//Region II Human Services - ECPv6.15.18//NONSGML v1.0//EN
CALSCALE:GREGORIAN
METHOD:PUBLISH
X-WR-CALNAME:Region II Human Services
X-ORIGINAL-URL:https://www.r2hs.com
X-WR-CALDESC:Events for Region II Human Services
REFRESH-INTERVAL;VALUE=DURATION:PT1H
X-Robots-Tag:noindex
X-PUBLISHED-TTL:PT1H
BEGIN:VTIMEZONE
TZID:America/Chicago
BEGIN:DAYLIGHT
TZOFFSETFROM:-0600
TZOFFSETTO:-0500
TZNAME:CDT
DTSTART:20240310T080000
END:DAYLIGHT
BEGIN:STANDARD
TZOFFSETFROM:-0500
TZOFFSETTO:-0600
TZNAME:CST
DTSTART:20241103T070000
END:STANDARD
BEGIN:DAYLIGHT
TZOFFSETFROM:-0600
TZOFFSETTO:-0500
TZNAME:CDT
DTSTART:20250309T080000
END:DAYLIGHT
BEGIN:STANDARD
TZOFFSETFROM:-0500
TZOFFSETTO:-0600
TZNAME:CST
DTSTART:20251102T070000
END:STANDARD
BEGIN:DAYLIGHT
TZOFFSETFROM:-0600
TZOFFSETTO:-0500
TZNAME:CDT
DTSTART:20260308T080000
END:DAYLIGHT
BEGIN:STANDARD
TZOFFSETFROM:-0500
TZOFFSETTO:-0600
TZNAME:CST
DTSTART:20261101T070000
END:STANDARD
END:VTIMEZONE
BEGIN:VEVENT
DTSTART;TZID=America/Chicago:20250125T090000
DTEND;TZID=America/Chicago:20250125T160000
DTSTAMP:20260420T131949
CREATED:20241126T151103Z
LAST-MODIFIED:20260114T213929Z
UID:10002404-1737795600-1737820800@www.r2hs.com
SUMMARY:YOUTH MENTAL HEALTH FIRST AID TRAINING
DESCRIPTION:Youth Mental Health First Aid is designed to teach parents\, family members\, caregivers\, teachers\, school staff\, peers\, neighbors\, health and human services workers\, and other caring citizens how to help an adolescent (age 12-18) who is experiencing a mental health or addictions challenge or is in crisis. Youth Mental Health First Aid is primarily designed for adults who regularly interact with young people. \nWhen: Saturday\, January 25\, 2025 \nTime:  9:00am-4:00pm CT \nLunch 12-1pm (on your own) \nFacilitators: Michelle Kohmetscher \n  \nWhere: Bethel Church \n2700 W Philip Ave \nNorth Platte\, NE 69101 \nParking: The main entrance and doors are on the south side of the building off Sunset. North doors will also be open. \nSponsored by Region II Human Services\, The Bethel Church & The Berean Church in North Platte\, NE. \nThere is no registration fee to attend. \nREGISTRATION: \nPlease fill out the registration information (can be found in the link below) and email to shannonsell@localhost \nAdditional information can be found at www.r2hs.com under the calendar tab. \nYouth MHFA Jan 25 2025 in North Platte \n  \nAdditional questions\, please contact Shannon at 308-529-0595 or at shannonsell@localhost \nCEU’s are not available for the training\, but a certificate of completion will be available after the training. \nPlease register by Thursday\, January 23\, 2025.    \n  \n  \n  \n 
URL:https://www.r2hs.com/event/youth-mental-health-first-aid-training-2/
LOCATION:The Bethel Church\, 2700 West Philip AVe\, North Platte\, NE\, 69101\, United States
END:VEVENT
END:VCALENDAR