BEGIN:VCALENDAR
VERSION:2.0
PRODID:-//Region II Human Services - ECPv6.15.18//NONSGML v1.0//EN
CALSCALE:GREGORIAN
METHOD:PUBLISH
X-WR-CALNAME:Region II Human Services
X-ORIGINAL-URL:https://www.r2hs.com
X-WR-CALDESC:Events for Region II Human Services
REFRESH-INTERVAL;VALUE=DURATION:PT1H
X-Robots-Tag:noindex
X-PUBLISHED-TTL:PT1H
BEGIN:VTIMEZONE
TZID:America/Chicago
BEGIN:DAYLIGHT
TZOFFSETFROM:-0600
TZOFFSETTO:-0500
TZNAME:CDT
DTSTART:20250309T080000
END:DAYLIGHT
BEGIN:STANDARD
TZOFFSETFROM:-0500
TZOFFSETTO:-0600
TZNAME:CST
DTSTART:20251102T070000
END:STANDARD
BEGIN:DAYLIGHT
TZOFFSETFROM:-0600
TZOFFSETTO:-0500
TZNAME:CDT
DTSTART:20260308T080000
END:DAYLIGHT
BEGIN:STANDARD
TZOFFSETFROM:-0500
TZOFFSETTO:-0600
TZNAME:CST
DTSTART:20261101T070000
END:STANDARD
BEGIN:DAYLIGHT
TZOFFSETFROM:-0600
TZOFFSETTO:-0500
TZNAME:CDT
DTSTART:20270314T080000
END:DAYLIGHT
BEGIN:STANDARD
TZOFFSETFROM:-0500
TZOFFSETTO:-0600
TZNAME:CST
DTSTART:20271107T070000
END:STANDARD
END:VTIMEZONE
BEGIN:VEVENT
DTSTART;TZID=America/Chicago:20260313T080000
DTEND;TZID=America/Chicago:20260313T163000
DTSTAMP:20260420T050206
CREATED:20260112T170032Z
LAST-MODIFIED:20260114T214024Z
UID:10002556-1773388800-1773419400@www.r2hs.com
SUMMARY:Mental Health First Aid Training- En Espanol
DESCRIPTION:THIS TRAINING WILL BE PRESENTED IN SPANISH. \nCapacitacion de primeros auxilios de salud mental para adultos \n  \nLos primeros auxilios de salud mental es un programa internacional reconocido por su efectividad. \nEstudios revisados por expertos en Australia donde se originó el programa muestra que las personas \ncapacitadas en el programa: \n\nAumentan en su conocimiento sobre los signos\, síntomas y factores de riesgo de las enfermedades\n\nmentales y adicciones. \n\nPueden identificar múltiples tipos de recursos profesionales y autoayuda para personas con una enfermedad mental o adicción.\nIncrementan su confianza y probabilidad de ayudar a una persona con una enfermedad mental o en situación de crisis.\nMuestra una mayor salud mental personal.\n\nLos estudios también demuestran que el programa reduce la distancia social creada por actitudes negativas y percepciones hacia las personas con enfermedades mentales. \n  \nCuándo: Viernes\,13 de marzo de 2026 \nHora:  9:00am-4:30pm CST \nAlmuerzo 12pm -1pm (por su cuenta) \nInstructor: Diego Gamero \n  \nDónde: Central Community College \n1501 Plum Creek Parkway \nLexington\, NE 68850 \n  \nNO hay costo de inscripción para asistir.  Esta clase es en español. \n  \nPatrocinado por Region II Human Services and Central Community College\, Lexington Center \n  \n  \nInscripción: \nPor favor\, complete la información de registro y envíela a Relena Lyddon at relenalyddon@cccneb.edu o llame a Maira al 1-308-338-4081 para registrarse.  AVOR 9000 CLE26 \n  \nSi tiene preguntas adicionales\, llame a Shannon al 308-529-0595 or shannonsell@localhost \nLos CEU’s no estan disponibles para esta capacitación\, pero se entregará un certificado de finalización después del entrenamiento.  \n  \nRegistrese antes del Miércoles\, 11 de marzo del 2026.  Espacio limitado.  \nAdult MHFA March 13\, 2026- Spanish class..
URL:https://www.r2hs.com/event/mental-health-first-aid-training-en-espanol/
LOCATION:Central Community College- Lexington\, NE. Campus\, 1501 Plum Creek Parkway \, Lexington\, NE.\, NE\, 68850\, United States
END:VEVENT
END:VCALENDAR