BEGIN:VCALENDAR
VERSION:2.0
PRODID:-//Region II Human Services - ECPv6.15.18//NONSGML v1.0//EN
CALSCALE:GREGORIAN
METHOD:PUBLISH
X-ORIGINAL-URL:https://www.r2hs.com
X-WR-CALDESC:Events for Region II Human Services
REFRESH-INTERVAL;VALUE=DURATION:PT1H
X-Robots-Tag:noindex
X-PUBLISHED-TTL:PT1H
BEGIN:VTIMEZONE
TZID:America/Chicago
BEGIN:DAYLIGHT
TZOFFSETFROM:-0600
TZOFFSETTO:-0500
TZNAME:CDT
DTSTART:20220313T080000
END:DAYLIGHT
BEGIN:STANDARD
TZOFFSETFROM:-0500
TZOFFSETTO:-0600
TZNAME:CST
DTSTART:20221106T070000
END:STANDARD
BEGIN:DAYLIGHT
TZOFFSETFROM:-0600
TZOFFSETTO:-0500
TZNAME:CDT
DTSTART:20230312T080000
END:DAYLIGHT
BEGIN:STANDARD
TZOFFSETFROM:-0500
TZOFFSETTO:-0600
TZNAME:CST
DTSTART:20231105T070000
END:STANDARD
BEGIN:DAYLIGHT
TZOFFSETFROM:-0600
TZOFFSETTO:-0500
TZNAME:CDT
DTSTART:20240310T080000
END:DAYLIGHT
BEGIN:STANDARD
TZOFFSETFROM:-0500
TZOFFSETTO:-0600
TZNAME:CST
DTSTART:20241103T070000
END:STANDARD
END:VTIMEZONE
BEGIN:VTIMEZONE
TZID:America/Denver
BEGIN:DAYLIGHT
TZOFFSETFROM:-0700
TZOFFSETTO:-0600
TZNAME:MDT
DTSTART:20220313T090000
END:DAYLIGHT
BEGIN:STANDARD
TZOFFSETFROM:-0600
TZOFFSETTO:-0700
TZNAME:MST
DTSTART:20221106T080000
END:STANDARD
BEGIN:DAYLIGHT
TZOFFSETFROM:-0700
TZOFFSETTO:-0600
TZNAME:MDT
DTSTART:20230312T090000
END:DAYLIGHT
BEGIN:STANDARD
TZOFFSETFROM:-0600
TZOFFSETTO:-0700
TZNAME:MST
DTSTART:20231105T080000
END:STANDARD
BEGIN:DAYLIGHT
TZOFFSETFROM:-0700
TZOFFSETTO:-0600
TZNAME:MDT
DTSTART:20240310T090000
END:DAYLIGHT
BEGIN:STANDARD
TZOFFSETFROM:-0600
TZOFFSETTO:-0700
TZNAME:MST
DTSTART:20241103T080000
END:STANDARD
END:VTIMEZONE
BEGIN:VEVENT
DTSTART;TZID=America/Chicago:20230401T100000
DTEND;TZID=America/Chicago:20230401T160000
DTSTAMP:20260420T210842
CREATED:20221020T155054Z
LAST-MODIFIED:20260114T213925Z
UID:10001088-1680343200-1680364800@www.r2hs.com
SUMMARY:Prime for Life- Drug & Alcohol Education Class
DESCRIPTION:All classes provided via Zoom until further notice. \nClasses will be held on the first Saturday of each month from 10:00 am–4:00 pm (Central Time) until further notice. (Date/time subject to change due to schedule conflict or Holidays). Classes in July and December will be the following dates: July 8\, 2023\, and December 9\, 2023.  \nTo register\, please call Shannon at 308-529-0595 \nRequirements for virtual classes: \n\nParticipants will be required to have a computer/tablet or phone with camera & speaker and will be required to actively participate in the class. If they do not have this capability\, they will not be able to register for the class. Classes will be held from 10-4pm (Central Time).\n Participants will be emailed a Zoom link with instructions 2 days prior to class. Participants must complete a pretest before scheduled class time starts. A posttest\, survey and evaluation must be completed after the class in order to receive a certificate of completion.\n\n\nA certificate of completion will be emailed to each participant once the required course work has been completed.\n\nRegistration for each class will close 5 days prior to the scheduled class date. Payment for the class must be received at least 5 days in advance. Acceptable payments- personal check\, money order\, cashier’s check or credit card payment. \n*Class fee is $120.00 (A digital workbook is included in the price). \n*Classes need to have a minimum number of participants. If the minimum number is not met\, participants will be notified before class regarding cancellation and rescheduled. A limit of 15 participants per class. \nParticipants must be at least 14 years old to attend the class. \nThis class is offered FREE to parents\, guardians or spouses wishing to sit in with the participant. \nFor more information on Prime for Life\, please click on the link below. \nWhat Is Prime For Life
URL:https://www.r2hs.com/event/prime-for-life-drug-alcohol-education-class-6/
LOCATION:Virtual event via Zoom\, NE\, United States
END:VEVENT
BEGIN:VEVENT
DTSTART;TZID=America/Denver:20230405T120000
DTEND;TZID=America/Denver:20230405T130000
DTSTAMP:20260420T210842
CREATED:20221004T184105Z
LAST-MODIFIED:20221205T195118Z
UID:10001052-1680696000-1680699600@www.r2hs.com
SUMMARY:Weekly Seeking Safety Drop-in Group in Ogallala\, NE.
DESCRIPTION:Seeking Safety Drop in Group- Ogallala\, NE.  \nSeeking Safety is a drop-in group to help people with PTSD\, a history of trauma and /or a history of substance use/dependence attain safety. Adults 19 years of age and older can attend. \nSeeking Safety is an evidence-based\, present-focused curriculum designed to help people attain safety from PTSD and/or substance use. It is also helpful for those with a history of trauma but without a PTSD diagnosis. Safety is the overarching goal\, with emphasis on helping people achieve safety in their relationships\, thinking\, behavior and emotions. There are a total of 25 different topics that can be attended in any order\, as few or as many times as a person finds helpful.
URL:https://www.r2hs.com/event/weekly-seeking-safety-drop-in-group-in-ogallala-ne/2023-04-05/
LOCATION:Region II Human Services\, 110 North Bailey\, North Platte\, NE\, 69101\, United States
END:VEVENT
BEGIN:VEVENT
DTSTART;TZID=America/Denver:20230405T120000
DTEND;TZID=America/Denver:20230405T130000
DTSTAMP:20260420T210842
CREATED:20231130T200832Z
LAST-MODIFIED:20231130T200832Z
UID:10001446-1680696000-1680699600@www.r2hs.com
SUMMARY:Weekly Seeking Safety Drop-in Group in Ogallala\, NE.
DESCRIPTION:Seeking Safety Drop in Group- Ogallala\, NE.  \nSeeking Safety is a drop-in group to help people with PTSD\, a history of trauma and /or a history of substance use/dependence attain safety. Adults 19 years of age and older can attend. \nSeeking Safety is an evidence-based\, present-focused curriculum designed to help people attain safety from PTSD and/or substance use. It is also helpful for those with a history of trauma but without a PTSD diagnosis. Safety is the overarching goal\, with emphasis on helping people achieve safety in their relationships\, thinking\, behavior and emotions. There are a total of 25 different topics that can be attended in any order\, as few or as many times as a person finds helpful.
URL:https://www.r2hs.com/event/weekly-seeking-safety-drop-in-group-in-ogallala-ne-2/2023-04-05/
LOCATION:Region II Human Services\, 110 North Bailey\, North Platte\, NE\, 69101\, United States
END:VEVENT
BEGIN:VEVENT
DTSTART;TZID=America/Denver:20230412T120000
DTEND;TZID=America/Denver:20230412T130000
DTSTAMP:20260420T210842
CREATED:20221004T184105Z
LAST-MODIFIED:20221205T195118Z
UID:10001053-1681300800-1681304400@www.r2hs.com
SUMMARY:Weekly Seeking Safety Drop-in Group in Ogallala\, NE.
DESCRIPTION:Seeking Safety Drop in Group- Ogallala\, NE.  \nSeeking Safety is a drop-in group to help people with PTSD\, a history of trauma and /or a history of substance use/dependence attain safety. Adults 19 years of age and older can attend. \nSeeking Safety is an evidence-based\, present-focused curriculum designed to help people attain safety from PTSD and/or substance use. It is also helpful for those with a history of trauma but without a PTSD diagnosis. Safety is the overarching goal\, with emphasis on helping people achieve safety in their relationships\, thinking\, behavior and emotions. There are a total of 25 different topics that can be attended in any order\, as few or as many times as a person finds helpful.
URL:https://www.r2hs.com/event/weekly-seeking-safety-drop-in-group-in-ogallala-ne/2023-04-12/
LOCATION:Region II Human Services\, 110 North Bailey\, North Platte\, NE\, 69101\, United States
END:VEVENT
BEGIN:VEVENT
DTSTART;TZID=America/Denver:20230412T120000
DTEND;TZID=America/Denver:20230412T130000
DTSTAMP:20260420T210842
CREATED:20231130T200832Z
LAST-MODIFIED:20231130T200832Z
UID:10001447-1681300800-1681304400@www.r2hs.com
SUMMARY:Weekly Seeking Safety Drop-in Group in Ogallala\, NE.
DESCRIPTION:Seeking Safety Drop in Group- Ogallala\, NE.  \nSeeking Safety is a drop-in group to help people with PTSD\, a history of trauma and /or a history of substance use/dependence attain safety. Adults 19 years of age and older can attend. \nSeeking Safety is an evidence-based\, present-focused curriculum designed to help people attain safety from PTSD and/or substance use. It is also helpful for those with a history of trauma but without a PTSD diagnosis. Safety is the overarching goal\, with emphasis on helping people achieve safety in their relationships\, thinking\, behavior and emotions. There are a total of 25 different topics that can be attended in any order\, as few or as many times as a person finds helpful.
URL:https://www.r2hs.com/event/weekly-seeking-safety-drop-in-group-in-ogallala-ne-2/2023-04-12/
LOCATION:Region II Human Services\, 110 North Bailey\, North Platte\, NE\, 69101\, United States
END:VEVENT
BEGIN:VEVENT
DTSTART;TZID=America/Denver:20230419T120000
DTEND;TZID=America/Denver:20230419T130000
DTSTAMP:20260420T210842
CREATED:20221004T184105Z
LAST-MODIFIED:20221205T195118Z
UID:10001054-1681905600-1681909200@www.r2hs.com
SUMMARY:Weekly Seeking Safety Drop-in Group in Ogallala\, NE.
DESCRIPTION:Seeking Safety Drop in Group- Ogallala\, NE.  \nSeeking Safety is a drop-in group to help people with PTSD\, a history of trauma and /or a history of substance use/dependence attain safety. Adults 19 years of age and older can attend. \nSeeking Safety is an evidence-based\, present-focused curriculum designed to help people attain safety from PTSD and/or substance use. It is also helpful for those with a history of trauma but without a PTSD diagnosis. Safety is the overarching goal\, with emphasis on helping people achieve safety in their relationships\, thinking\, behavior and emotions. There are a total of 25 different topics that can be attended in any order\, as few or as many times as a person finds helpful.
URL:https://www.r2hs.com/event/weekly-seeking-safety-drop-in-group-in-ogallala-ne/2023-04-19/
LOCATION:Region II Human Services\, 110 North Bailey\, North Platte\, NE\, 69101\, United States
END:VEVENT
BEGIN:VEVENT
DTSTART;TZID=America/Denver:20230419T120000
DTEND;TZID=America/Denver:20230419T130000
DTSTAMP:20260420T210842
CREATED:20231130T200832Z
LAST-MODIFIED:20231130T200832Z
UID:10001448-1681905600-1681909200@www.r2hs.com
SUMMARY:Weekly Seeking Safety Drop-in Group in Ogallala\, NE.
DESCRIPTION:Seeking Safety Drop in Group- Ogallala\, NE.  \nSeeking Safety is a drop-in group to help people with PTSD\, a history of trauma and /or a history of substance use/dependence attain safety. Adults 19 years of age and older can attend. \nSeeking Safety is an evidence-based\, present-focused curriculum designed to help people attain safety from PTSD and/or substance use. It is also helpful for those with a history of trauma but without a PTSD diagnosis. Safety is the overarching goal\, with emphasis on helping people achieve safety in their relationships\, thinking\, behavior and emotions. There are a total of 25 different topics that can be attended in any order\, as few or as many times as a person finds helpful.
URL:https://www.r2hs.com/event/weekly-seeking-safety-drop-in-group-in-ogallala-ne-2/2023-04-19/
LOCATION:Region II Human Services\, 110 North Bailey\, North Platte\, NE\, 69101\, United States
END:VEVENT
BEGIN:VEVENT
DTSTART;TZID=America/Denver:20230426T120000
DTEND;TZID=America/Denver:20230426T130000
DTSTAMP:20260420T210842
CREATED:20221004T184105Z
LAST-MODIFIED:20221205T195118Z
UID:10001055-1682510400-1682514000@www.r2hs.com
SUMMARY:Weekly Seeking Safety Drop-in Group in Ogallala\, NE.
DESCRIPTION:Seeking Safety Drop in Group- Ogallala\, NE.  \nSeeking Safety is a drop-in group to help people with PTSD\, a history of trauma and /or a history of substance use/dependence attain safety. Adults 19 years of age and older can attend. \nSeeking Safety is an evidence-based\, present-focused curriculum designed to help people attain safety from PTSD and/or substance use. It is also helpful for those with a history of trauma but without a PTSD diagnosis. Safety is the overarching goal\, with emphasis on helping people achieve safety in their relationships\, thinking\, behavior and emotions. There are a total of 25 different topics that can be attended in any order\, as few or as many times as a person finds helpful.
URL:https://www.r2hs.com/event/weekly-seeking-safety-drop-in-group-in-ogallala-ne/2023-04-26/
LOCATION:Region II Human Services\, 110 North Bailey\, North Platte\, NE\, 69101\, United States
END:VEVENT
BEGIN:VEVENT
DTSTART;TZID=America/Denver:20230426T120000
DTEND;TZID=America/Denver:20230426T130000
DTSTAMP:20260420T210842
CREATED:20231130T200832Z
LAST-MODIFIED:20231130T200832Z
UID:10001449-1682510400-1682514000@www.r2hs.com
SUMMARY:Weekly Seeking Safety Drop-in Group in Ogallala\, NE.
DESCRIPTION:Seeking Safety Drop in Group- Ogallala\, NE.  \nSeeking Safety is a drop-in group to help people with PTSD\, a history of trauma and /or a history of substance use/dependence attain safety. Adults 19 years of age and older can attend. \nSeeking Safety is an evidence-based\, present-focused curriculum designed to help people attain safety from PTSD and/or substance use. It is also helpful for those with a history of trauma but without a PTSD diagnosis. Safety is the overarching goal\, with emphasis on helping people achieve safety in their relationships\, thinking\, behavior and emotions. There are a total of 25 different topics that can be attended in any order\, as few or as many times as a person finds helpful.
URL:https://www.r2hs.com/event/weekly-seeking-safety-drop-in-group-in-ogallala-ne-2/2023-04-26/
LOCATION:Region II Human Services\, 110 North Bailey\, North Platte\, NE\, 69101\, United States
END:VEVENT
END:VCALENDAR